BEGIN:VCALENDAR
VERSION:2.0
PRODID:-//Cornerstone Community Church | Leander, Cedar Park, Georgetown, TX - ECPv6.5.0//NONSGML v1.0//EN
CALSCALE:GREGORIAN
METHOD:PUBLISH
X-WR-CALNAME:Cornerstone Community Church | Leander, Cedar Park, Georgetown, TX
X-ORIGINAL-URL:https://cornerstonecommunity.com
X-WR-CALDESC:Events for Cornerstone Community Church | Leander, Cedar Park, Georgetown, TX
REFRESH-INTERVAL;VALUE=DURATION:PT1H
X-Robots-Tag:noindex
X-PUBLISHED-TTL:PT1H
BEGIN:VTIMEZONE
TZID:America/Chicago
BEGIN:DAYLIGHT
TZOFFSETFROM:-0600
TZOFFSETTO:-0500
TZNAME:CDT
DTSTART:20240310T080000
END:DAYLIGHT
BEGIN:STANDARD
TZOFFSETFROM:-0500
TZOFFSETTO:-0600
TZNAME:CST
DTSTART:20241103T070000
END:STANDARD
END:VTIMEZONE
BEGIN:VEVENT
DTSTART;TZID=America/Chicago:20240901T091500
DTEND;TZID=America/Chicago:20240901T111500
DTSTAMP:20260424T204526
CREATED:20240529T180640Z
LAST-MODIFIED:20240722T133827Z
UID:1763-1725182100-1725189300@cornerstonecommunity.com
SUMMARY:First Sunday Prayer & Communion
DESCRIPTION:On the first Sunday of each month\, Pastor Michael will lead a time of prayer from 9:15 – 9:45am in the Kindred Oaks house. Then we hope you’ll stay for the 10:00am worship service where we will observe the Lord’s Supper. \nCornerstone Community Church @Kindred Oaks is located at 2100 CR 176\, Leander\, TX 78628. Email info@cornerstonecommunity.com for more information.
URL:https://cornerstonecommunity.com/event/first-sunday-prayer-communion-6/
END:VEVENT
BEGIN:VEVENT
DTSTART;TZID=America/Chicago:20240901T153000
DTEND;TZID=America/Chicago:20240901T173000
DTSTAMP:20260424T204526
CREATED:20240806T194450Z
LAST-MODIFIED:20240909T153322Z
UID:2010-1725204600-1725211800@cornerstonecommunity.com
SUMMARY:Experiencing God Study Begins
DESCRIPTION:Join us this fall for the Bible study “Experiencing God: Knowing and Doing the Will of God” by Henry Blackaby. This 12-week course led by Marty Reed will begin September 1 and will end before Thanksgiving. \nDo you want to take your relationship with God to a new level? This classic Bible study has helped millions of people do just that. Newly revised\, “Experiencing God” will help you understand seven key facts about God that many Christians miss. In learning these\, you can open the door to a deeper faith\, greater obedience\, and profound change in your life. Some studies help you know the Bible. This one helps you know the Author. \nYou can sign up at The Spot on Sunday mornings. The cost of the course book is $21.99 and can be found on Amazon.com or Lifeway.com. All sessions will be held at the Reeds’ home. For more information\, contact Marty Reed at (512) 409-6320 or marty@coolrayelectric.com.
URL:https://cornerstonecommunity.com/event/experiencing-god-study-begins/
END:VEVENT
BEGIN:VEVENT
DTSTART;TZID=America/Chicago:20240904T183000
DTEND;TZID=America/Chicago:20240904T200000
DTSTAMP:20260424T204526
CREATED:20240612T195807Z
LAST-MODIFIED:20240612T195807Z
UID:1813-1725474600-1725480000@cornerstonecommunity.com
SUMMARY:Students fall schedule begins
DESCRIPTION:Students 6th-12th grade will meet for fellowship\, games\, worship\, and Bible study each Wednesday night from 6:30-8:00pm. \nFor more information\, see the Students Ministry page here. Contact Student Leader Mitch Gumpl at txtech_rr98@yahoo.com for more information or if you need help arranging transportation for your child. \nCornerstone @Kindred Oaks is located at 2100 CR 176\, Leander\, TX 78628.
URL:https://cornerstonecommunity.com/event/students-fall-schedule-begins/
END:VEVENT
BEGIN:VEVENT
DTSTART;TZID=America/Chicago:20240908T153000
DTEND;TZID=America/Chicago:20240908T173000
DTSTAMP:20260424T204526
CREATED:20240827T182528Z
LAST-MODIFIED:20240909T153538Z
UID:2032-1725809400-1725816600@cornerstonecommunity.com
SUMMARY:Experiencing God Bible Study
DESCRIPTION:Join us this fall for the Bible study “Experiencing God: Knowing and Doing the Will of God” by Henry Blackaby. This 12-week course led by Marty Reed will begin September 1 and will end before Thanksgiving. \nDo you want to take your relationship with God to a new level? This classic Bible study has helped millions of people do just that. Newly revised\, “Experiencing God” will help you understand seven key facts about God that many Christians miss. In learning these\, you can open the door to a deeper faith\, greater obedience\, and profound change in your life. Some studies help you know the Bible. This one helps you know the Author. \nYou can sign up at The Spot on Sunday mornings. The cost of the course book is $21.99 and can be found on Amazon.com or Lifeway.com. All sessions will be held at the Reeds’ home. For more information\, contact Marty Reed at (512) 409-6320 or marty@coolrayelectric.com.
URL:https://cornerstonecommunity.com/event/experiencing-god-bible-study/
END:VEVENT
BEGIN:VEVENT
DTSTART;TZID=America/Chicago:20240910T190000
DTEND;TZID=America/Chicago:20240910T203000
DTSTAMP:20260424T204526
CREATED:20240618T194135Z
LAST-MODIFIED:20240618T194637Z
UID:1851-1725994800-1726000200@cornerstonecommunity.com
SUMMARY:Women's Bible Study - When You Pray
DESCRIPTION:“When You Pray – A Study of Six Prayers in the Bible” by Kelly Minter\, Jackie Hill Perry\, Jen Wilkin\, Jennifer Rothchild\, Jada Edwards\, Kristi McLelland \nDo you have trouble thinking of words to say to God when you pray? Are you afraid some emotions are too intense to express to God? Do you reach the end of a day only to realize you haven’t prayed at all? You’re not alone. Prayer is the way we relate to God\, but sometimes it’s a struggle. Throughout God’s Word\, we encounter many voices who teach us how to pray. \nIn this 7-session study\, join with six beloved Bible teachers who will help you study prayers in the Bible that can inspire your own. You’ll learn that God welcomes your praise and lament\, your thanksgiving and intercession. You’ll see examples of how to pray when you’re alone and when you’re gathered with others. Above all\, you’ll notice there’s no one right way to pray. As you draw near to God through prayer\, you’ll find your faith strengthened and your heart united to Christ. \nThis women’s study group will meet every other Tuesday evening from 7:00-8:30pm at the home of Donna Reed. Questions? Contact Women’s Ministry Leader Donna Reed at women@cornerstonecommunity.com or (512) 981-8213.
URL:https://cornerstonecommunity.com/event/womens-bible-study-when-you-pray-9/
END:VEVENT
BEGIN:VEVENT
DTSTART;TZID=America/Chicago:20240911T093000
DTEND;TZID=America/Chicago:20240911T110000
DTSTAMP:20260424T204526
CREATED:20240618T193310Z
LAST-MODIFIED:20240618T193310Z
UID:1836-1726047000-1726052400@cornerstonecommunity.com
SUMMARY:Women's Bible Study - When You Pray
DESCRIPTION:“When You Pray – A Study of Six Prayers in the Bible” by Kelly Minter\, Jackie Hill Perry\, Jen Wilkin\, Jennifer Rothchild\, Jada Edwards\, Kristi McLelland \nDo you have trouble thinking of words to say to God when you pray? Are you afraid some emotions are too intense to express to God? Do you reach the end of a day only to realize you haven’t prayed at all? You’re not alone. Prayer is the way we relate to God\, but sometimes it’s a struggle. Throughout God’s Word\, we encounter many voices who teach us how to pray. \nIn this 7-session study\, join with six beloved Bible teachers who will help you study prayers in the Bible that can inspire your own. You’ll learn that God welcomes your praise and lament\, your thanksgiving and intercession. You’ll see examples of how to pray when you’re alone and when you’re gathered with others. Above all\, you’ll notice there’s no one right way to pray. As you draw near to God through prayer\, you’ll find your faith strengthened and your heart united to Christ. \nThis women’s study group will meet every other Wednesday morning from 9:30-11:00 am at the home of Chelsy Goacher. Childcare will be provided. Questions? Contact Women’s Ministry Leader Donna Reed at women@cornerstonecommunity.com or (512) 981-8213.
URL:https://cornerstonecommunity.com/event/womens-bible-study-when-you-pray-3/
END:VEVENT
BEGIN:VEVENT
DTSTART;TZID=America/Chicago:20240914T080000
DTEND;TZID=America/Chicago:20240914T093000
DTSTAMP:20260424T204526
CREATED:20240529T180307Z
LAST-MODIFIED:20240910T171340Z
UID:1755-1726300800-1726306200@cornerstonecommunity.com
SUMMARY:Second Saturday Men's Breakfast
DESCRIPTION:Cornerstone Men:  Come enjoy a full breakfast\, a brief Bible teaching geared to equip men\, discussion and prayer. College-age up and friends are welcome! \nDate:  Saturday\, September 14 from 8:00-9:30am \nLocation:  Goacher home \nRSVP to Pastor Michael at (949) 606-4089 so we have the right amount of food!
URL:https://cornerstonecommunity.com/event/second-saturday-mens-breakfast-6/
END:VEVENT
BEGIN:VEVENT
DTSTART;TZID=America/Chicago:20240915T153000
DTEND;TZID=America/Chicago:20240915T173000
DTSTAMP:20260424T204526
CREATED:20240827T182616Z
LAST-MODIFIED:20240909T153609Z
UID:2034-1726414200-1726421400@cornerstonecommunity.com
SUMMARY:Experiencing God Bible Study
DESCRIPTION:Join us this fall for the Bible study “Experiencing God: Knowing and Doing the Will of God” by Henry Blackaby. This 12-week course led by Marty Reed will begin September 1 and will end before Thanksgiving. \nDo you want to take your relationship with God to a new level? This classic Bible study has helped millions of people do just that. Newly revised\, “Experiencing God” will help you understand seven key facts about God that many Christians miss. In learning these\, you can open the door to a deeper faith\, greater obedience\, and profound change in your life. Some studies help you know the Bible. This one helps you know the Author. \nYou can sign up at The Spot on Sunday mornings. The cost of the course book is $21.99 and can be found on Amazon.com or Lifeway.com. All sessions will be held at the Reeds’ home. For more information\, contact Marty Reed at (512) 409-6320 or marty@coolrayelectric.com.
URL:https://cornerstonecommunity.com/event/experiencing-god-bible-study-2/
END:VEVENT
BEGIN:VEVENT
DTSTART;TZID=America/Chicago:20240920T190000
DTEND;TZID=America/Chicago:20240920T210000
DTSTAMP:20260424T204526
CREATED:20240430T192226Z
LAST-MODIFIED:20240618T183736Z
UID:1709-1726858800-1726866000@cornerstonecommunity.com
SUMMARY:Better Together
DESCRIPTION:Women college age & up\, please join us for our next Better Together gathering on Friday\, September 20\, 2024 at 7:00 pm. \n\nWe will enjoy fellowship\, a brief Bible teaching\, and discuss topics relevant to you as a woman following Christ. Our September meeting will be at the home of Debi Coster. Drinks and light snacks will be served. We hope to see you there!\n\nQuestions? Contact Women’s Ministry Leader Donna Reed at (512) 981-8213/women@cornerstonecommunity.com.
URL:https://cornerstonecommunity.com/event/better-together-5/
END:VEVENT
BEGIN:VEVENT
DTSTART;TZID=America/Chicago:20240922T153000
DTEND;TZID=America/Chicago:20240922T173000
DTSTAMP:20260424T204526
CREATED:20240827T182652Z
LAST-MODIFIED:20240909T153632Z
UID:2036-1727019000-1727026200@cornerstonecommunity.com
SUMMARY:Experiencing God Bible Study
DESCRIPTION:Join us this fall for the Bible study “Experiencing God: Knowing and Doing the Will of God” by Henry Blackaby. This 12-week course led by Marty Reed will begin September 1 and will end before Thanksgiving. \nDo you want to take your relationship with God to a new level? This classic Bible study has helped millions of people do just that. Newly revised\, “Experiencing God” will help you understand seven key facts about God that many Christians miss. In learning these\, you can open the door to a deeper faith\, greater obedience\, and profound change in your life. Some studies help you know the Bible. This one helps you know the Author. \nYou can sign up at The Spot on Sunday mornings. The cost of the course book is $21.99 and can be found on Amazon.com or Lifeway.com. All sessions will be held at the Reeds’ home. For more information\, contact Marty Reed at (512) 409-6320 or marty@coolrayelectric.com.
URL:https://cornerstonecommunity.com/event/experiencing-god-bible-study-3/
END:VEVENT
BEGIN:VEVENT
DTSTART;TZID=America/Chicago:20240922T190000
DTEND;TZID=America/Chicago:20240922T203000
DTSTAMP:20260424T204526
CREATED:20240806T194758Z
LAST-MODIFIED:20240806T194857Z
UID:2014-1727031600-1727037000@cornerstonecommunity.com
SUMMARY:Cornerstone Volunteer Appreciation
DESCRIPTION:We love our volunteers! Please join us for a dessert night just for you on Sunday\, September 22nd at Kindred Oaks. More details coming soon!
URL:https://cornerstonecommunity.com/event/volunteer-appreciation/
END:VEVENT
BEGIN:VEVENT
DTSTART;TZID=America/Chicago:20240924T190000
DTEND;TZID=America/Chicago:20240924T203000
DTSTAMP:20260424T204526
CREATED:20240618T194208Z
LAST-MODIFIED:20240618T194719Z
UID:1853-1727204400-1727209800@cornerstonecommunity.com
SUMMARY:Women's Bible Study - When You Pray
DESCRIPTION:“When You Pray – A Study of Six Prayers in the Bible” by Kelly Minter\, Jackie Hill Perry\, Jen Wilkin\, Jennifer Rothchild\, Jada Edwards\, Kristi McLelland \nDo you have trouble thinking of words to say to God when you pray? Are you afraid some emotions are too intense to express to God? Do you reach the end of a day only to realize you haven’t prayed at all? You’re not alone. Prayer is the way we relate to God\, but sometimes it’s a struggle. Throughout God’s Word\, we encounter many voices who teach us how to pray. \nIn this 7-session study\, join with six beloved Bible teachers who will help you study prayers in the Bible that can inspire your own. You’ll learn that God welcomes your praise and lament\, your thanksgiving and intercession. You’ll see examples of how to pray when you’re alone and when you’re gathered with others. Above all\, you’ll notice there’s no one right way to pray. As you draw near to God through prayer\, you’ll find your faith strengthened and your heart united to Christ. \nThis women’s study group will meet every other Tuesday evening from 7:00-8:30pm at the home of Donna Reed. Questions? Contact Women’s Ministry Leader Donna Reed at women@cornerstonecommunity.com or (512) 981-8213.
URL:https://cornerstonecommunity.com/event/womens-bible-study-when-you-pray-10/
END:VEVENT
BEGIN:VEVENT
DTSTART;TZID=America/Chicago:20240925T093000
DTEND;TZID=America/Chicago:20240925T110000
DTSTAMP:20260424T204526
CREATED:20240618T193343Z
LAST-MODIFIED:20240618T193703Z
UID:1838-1727256600-1727262000@cornerstonecommunity.com
SUMMARY:Women's Bible Study - When You Pray
DESCRIPTION:“When You Pray – A Study of Six Prayers in the Bible” by Kelly Minter\, Jackie Hill Perry\, Jen Wilkin\, Jennifer Rothchild\, Jada Edwards\, Kristi McLelland \nDo you have trouble thinking of words to say to God when you pray? Are you afraid some emotions are too intense to express to God? Do you reach the end of a day only to realize you haven’t prayed at all? You’re not alone. Prayer is the way we relate to God\, but sometimes it’s a struggle. Throughout God’s Word\, we encounter many voices who teach us how to pray. \nIn this 7-session study\, join with six beloved Bible teachers who will help you study prayers in the Bible that can inspire your own. You’ll learn that God welcomes your praise and lament\, your thanksgiving and intercession. You’ll see examples of how to pray when you’re alone and when you’re gathered with others. Above all\, you’ll notice there’s no one right way to pray. As you draw near to God through prayer\, you’ll find your faith strengthened and your heart united to Christ. \nThis women’s study group will meet every other Wednesday morning from 9:30-11:00 am at the home of Chelsy Goacher. Childcare will be provided. Questions? Contact Women’s Ministry Leader Donna Reed at women@cornerstonecommunity.com or (512) 981-8213.
URL:https://cornerstonecommunity.com/event/womens-bible-study/
END:VEVENT
BEGIN:VEVENT
DTSTART;TZID=America/Chicago:20240929T100000
DTEND;TZID=America/Chicago:20240929T111500
DTSTAMP:20260424T204526
CREATED:20240910T170111Z
LAST-MODIFIED:20240927T181718Z
UID:2057-1727604000-1727608500@cornerstonecommunity.com
SUMMARY:Fifth Sunday - Grade School in 10am Service
DESCRIPTION:A few times a year\, there are five Sundays in the month. On this day\, grade school children (kindergarten through 5th grade) will join their families for the entire 10am worship service\, while the preschool room will be open as usual. Parents\, feel free to bring any items or activities that would make your children more comfortable during the worship service. We will have activity packets available as well. We love kids and welcome them anytime! The regular children’s ministry schedule will resume the following week. Email info@cornerstonecommunity.com with any questions.
URL:https://cornerstonecommunity.com/event/fifth-sunday-grade-school-in-10am-service-2/
END:VEVENT
BEGIN:VEVENT
DTSTART;TZID=America/Chicago:20240929T153000
DTEND;TZID=America/Chicago:20240929T173000
DTSTAMP:20260424T204526
CREATED:20240827T182724Z
LAST-MODIFIED:20240909T153656Z
UID:2038-1727623800-1727631000@cornerstonecommunity.com
SUMMARY:Experiencing God Bible Study
DESCRIPTION:Join us this fall for the Bible study “Experiencing God: Knowing and Doing the Will of God” by Henry Blackaby. This 12-week course led by Marty Reed will begin September 1 and will end before Thanksgiving. \nDo you want to take your relationship with God to a new level? This classic Bible study has helped millions of people do just that. Newly revised\, “Experiencing God” will help you understand seven key facts about God that many Christians miss. In learning these\, you can open the door to a deeper faith\, greater obedience\, and profound change in your life. Some studies help you know the Bible. This one helps you know the Author. \nYou can sign up at The Spot on Sunday mornings. The cost of the course book is $21.99 and can be found on Amazon.com or Lifeway.com. All sessions will be held at the Reeds’ home. For more information\, contact Marty Reed at (512) 409-6320 or marty@coolrayelectric.com.
URL:https://cornerstonecommunity.com/event/experiencing-god-bible-study-4/
END:VEVENT
END:VCALENDAR