BEGIN:VCALENDAR
VERSION:2.0
PRODID:-//Cornerstone Community Church | Leander, Cedar Park, Georgetown, TX - ECPv6.5.0//NONSGML v1.0//EN
CALSCALE:GREGORIAN
METHOD:PUBLISH
X-WR-CALNAME:Cornerstone Community Church | Leander, Cedar Park, Georgetown, TX
X-ORIGINAL-URL:https://cornerstonecommunity.com
X-WR-CALDESC:Events for Cornerstone Community Church | Leander, Cedar Park, Georgetown, TX
REFRESH-INTERVAL;VALUE=DURATION:PT1H
X-Robots-Tag:noindex
X-PUBLISHED-TTL:PT1H
BEGIN:VTIMEZONE
TZID:America/Chicago
BEGIN:DAYLIGHT
TZOFFSETFROM:-0600
TZOFFSETTO:-0500
TZNAME:CDT
DTSTART:20240310T080000
END:DAYLIGHT
BEGIN:STANDARD
TZOFFSETFROM:-0500
TZOFFSETTO:-0600
TZNAME:CST
DTSTART:20241103T070000
END:STANDARD
END:VTIMEZONE
BEGIN:VEVENT
DTSTART;TZID=America/Chicago:20240707T091500
DTEND;TZID=America/Chicago:20240707T111500
DTSTAMP:20260424T162210
CREATED:20240423T201831Z
LAST-MODIFIED:20240423T201831Z
UID:1690-1720343700-1720350900@cornerstonecommunity.com
SUMMARY:First Sunday Prayer & Communion
DESCRIPTION:On the first Sunday of each month\, Pastor Michael will lead a time of prayer at 9:15am before the worship service in the Kindred Oaks house. All ages welcome. We will also observe the Lord’s Supper during the worship service. \nCornerstone Community Church @Kindred Oaks is located at 2100 CR 176\, Leander\, TX 78628. Email info@cornerstonecommunity.com for more information.
URL:https://cornerstonecommunity.com/event/first-sunday-prayer-communion-4/
END:VEVENT
BEGIN:VEVENT
DTSTART;TZID=America/Chicago:20240710T000000
DTEND;TZID=America/Chicago:20240715T235959
DTSTAMP:20260424T162210
CREATED:20240529T182256Z
LAST-MODIFIED:20240529T182256Z
UID:1771-1720569600-1721087999@cornerstonecommunity.com
SUMMARY:Students M3 Camp in Glorieta
DESCRIPTION:Students 6th – 12th grade (completed) are invited to attend M3 Camp July 10-15! \nJoin over 2000 students for a week in Glorieta\, New Mexico\, for worship\, prayer\, preaching\, and intentional breakout times for spiritual growth. Recreational activities include volleyball\, basketball\, dodgeball\, kickball\, and flag football\, plus free time to enjoy all the camp activities such as ziplining\, rock climbing\, BMX biking and more! \nRegister online at ghbc.org/events. Cost is $350 per student. Contact Brandon Pittman with any questions at brandonp@ghbc.org.
URL:https://cornerstonecommunity.com/event/students-m3-camp-in-glorieta/
END:VEVENT
BEGIN:VEVENT
DTSTART;TZID=America/Chicago:20240710T183000
DTEND;TZID=America/Chicago:20240710T200000
DTSTAMP:20260424T162210
CREATED:20240529T171748Z
LAST-MODIFIED:20240529T171850Z
UID:1746-1720636200-1720641600@cornerstonecommunity.com
SUMMARY:Students Meeting
DESCRIPTION:Students 6th-12th grade will meet for fellowship\, games\, worship\, and Bible study. \nWhen: Wednesday\, July 10 from 6:30-8:00pm \nWhere:  Cornerstone @Kindred Oaks 2100 CR 176\, Leander\, TX 78628. \nFor more information\, see the Students Ministry page here. Contact Student Leader Mitch Gumpl at txtech_rr98@yahoo.com for more information or if you need help arranging transportation for your child.
URL:https://cornerstonecommunity.com/event/students-meeting-2/
END:VEVENT
BEGIN:VEVENT
DTSTART;TZID=America/Chicago:20240711T180000
DTEND;TZID=America/Chicago:20240711T200000
DTSTAMP:20260424T162210
CREATED:20240624T134151Z
LAST-MODIFIED:20240624T134151Z
UID:1868-1720720800-1720728000@cornerstonecommunity.com
SUMMARY:Conversational Apologetics Class
DESCRIPTION:Are you ready to not only defend your faith but also deepen your understanding of what you believe and why? We’ll follow the command from 1 Peter 3:15\, which urges us to “always be ready to make a defense to everyone who asks you to give an account for the hope that is in you.” \nIn this four-week course\, you’ll be equipped with practical skills and insights to confidently respond to objections and questions that challenge the core of your beliefs. Whether you’re facing tough conversations from non-believers or simply wanting more confidence to evangelize to a work colleague\, this series will empower you to stand firm and share your faith with clarity and conviction. \nConversational Apologetics will leave you inspired to be a hold ambassador for your faith! Class will be held at the home of Drew & Debi Coster. Please RSVP to Drew at (650)483-8393 if you plan to attend. \nSession Dates: \nJuly 11\, 6-8pm \nJuly 18\, 6-8pm \nJuly 25\, 6-8pm \nAugust 1\, 6-8pm \n 
URL:https://cornerstonecommunity.com/event/conversational-apologetics-class/
END:VEVENT
BEGIN:VEVENT
DTSTART;TZID=America/Chicago:20240713T080000
DTEND;TZID=America/Chicago:20240713T093000
DTSTAMP:20260424T162210
CREATED:20240423T201926Z
LAST-MODIFIED:20240702T225958Z
UID:1692-1720857600-1720863000@cornerstonecommunity.com
SUMMARY:Second Saturday Men's Breakfast
DESCRIPTION:Cornerstone Men:  Come enjoy a full breakfast\, a brief Bible teaching geared to equip men\, discussion and prayer. College-age up and friends are welcome! \nDate:  Saturday\, July 13 from 8:00-9:30am \nLocation:  Goacher Home \nRSVP to Pastor Michael at (949) 606-4089 so we have the right amount of food!
URL:https://cornerstonecommunity.com/event/second-saturday-mens-breakfast-4/
END:VEVENT
BEGIN:VEVENT
DTSTART;TZID=America/Chicago:20240713T100000
DTEND;TZID=America/Chicago:20240713T130000
DTSTAMP:20260424T162210
CREATED:20240624T144713Z
LAST-MODIFIED:20240624T144713Z
UID:1877-1720864800-1720875600@cornerstonecommunity.com
SUMMARY:July Service Project
DESCRIPTION:On Saturday\, July 13th at 10:00am\, we will return to a needy neighbor’s home to help with yard work and cleanup. This is the same home where our team served during Love Leander earlier this year. We will cut down dead trees\, carry brush\, and repair a roof awning. It is recommended to wear cool\, comfortable clothing\, close-toed shoes\, and gloves. The address is 1802 Muledeer Run\, Leander\, TX 78641. Please call or text Drew Coster (650)483-8393 for equipment needed and what you can bring.
URL:https://cornerstonecommunity.com/event/july-service-project/
END:VEVENT
BEGIN:VEVENT
DTSTART;TZID=America/Chicago:20240718T180000
DTEND;TZID=America/Chicago:20240718T200000
DTSTAMP:20260424T162210
CREATED:20240624T134232Z
LAST-MODIFIED:20240624T134232Z
UID:1871-1721325600-1721332800@cornerstonecommunity.com
SUMMARY:Conversational Apologetics Class
DESCRIPTION:Are you ready to not only defend your faith but also deepen your understanding of what you believe and why? We’ll follow the command from 1 Peter 3:15\, which urges us to “always be ready to make a defense to everyone who asks you to give an account for the hope that is in you.” \nIn this four-week course\, you’ll be equipped with practical skills and insights to confidently respond to objections and questions that challenge the core of your beliefs. Whether you’re facing tough conversations from non-believers or simply wanting more confidence to evangelize to a work colleague\, this series will empower you to stand firm and share your faith with clarity and conviction. \nConversational Apologetics will leave you inspired to be a hold ambassador for your faith! Class will be held at the home of Drew & Debi Coster. Please RSVP to Drew at (650)483-8393 if you plan to attend. \nSession Dates: \nJuly 11\, 6-8pm \nJuly 18\, 6-8pm \nJuly 25\, 6-8pm \nAugust 1\, 6-8pm
URL:https://cornerstonecommunity.com/event/conversational-apologetics-class-2/
END:VEVENT
BEGIN:VEVENT
DTSTART;TZID=America/Chicago:20240719T190000
DTEND;TZID=America/Chicago:20240719T210000
DTSTAMP:20260424T162210
CREATED:20240430T192138Z
LAST-MODIFIED:20240618T183642Z
UID:1707-1721415600-1721422800@cornerstonecommunity.com
SUMMARY:Better Together
DESCRIPTION:Women college age & up\, please join us for our next Better Together gathering on Friday\, July 19\, 2024 at 7:00 pm. \n\nWe will enjoy fellowship\, a brief Bible teaching\, and discuss topics relevant to you as women following Christ. Our July meeting will be at the home of Jo Ann Osborne. Drinks and light snacks will be served. We hope to see you there!\n\nQuestions? Contact Women’s Ministry Leader Donna Reed at (512) 981-8213/women@cornerstonecommunity.com.
URL:https://cornerstonecommunity.com/event/better-together-4/
END:VEVENT
BEGIN:VEVENT
DTSTART;TZID=America/Chicago:20240724T183000
DTEND;TZID=America/Chicago:20240724T203000
DTSTAMP:20260424T162210
CREATED:20240604T205111Z
LAST-MODIFIED:20240612T184507Z
UID:1794-1721845800-1721853000@cornerstonecommunity.com
SUMMARY:Students Pool Party
DESCRIPTION:Students (6th – 12th grade)\, save the date for a pool party at the Morris home. Bring a towel and a friend! More details coming soon.
URL:https://cornerstonecommunity.com/event/students-pool-party/
END:VEVENT
BEGIN:VEVENT
DTSTART;TZID=America/Chicago:20240725T180000
DTEND;TZID=America/Chicago:20240725T200000
DTSTAMP:20260424T162210
CREATED:20240624T134306Z
LAST-MODIFIED:20240624T134306Z
UID:1873-1721930400-1721937600@cornerstonecommunity.com
SUMMARY:Conversational Apologetics Class
DESCRIPTION:Are you ready to not only defend your faith but also deepen your understanding of what you believe and why? We’ll follow the command from 1 Peter 3:15\, which urges us to “always be ready to make a defense to everyone who asks you to give an account for the hope that is in you.” \nIn this four-week course\, you’ll be equipped with practical skills and insights to confidently respond to objections and questions that challenge the core of your beliefs. Whether you’re facing tough conversations from non-believers or simply wanting more confidence to evangelize to a work colleague\, this series will empower you to stand firm and share your faith with clarity and conviction. \nConversational Apologetics will leave you inspired to be a hold ambassador for your faith! Class will be held at the home of Drew & Debi Coster. Please RSVP to Drew at (650)483-8393 if you plan to attend. \nSession Dates: \nJuly 11\, 6-8pm \nJuly 18\, 6-8pm \nJuly 25\, 6-8pm \nAugust 1\, 6-8pm
URL:https://cornerstonecommunity.com/event/conversational-apologetics-class-3/
END:VEVENT
BEGIN:VEVENT
DTSTART;TZID=America/Chicago:20240726T000000
DTEND;TZID=America/Chicago:20240728T235959
DTSTAMP:20260424T162210
CREATED:20240705T180127Z
LAST-MODIFIED:20240705T180127Z
UID:1883-1721952000-1722211199@cornerstonecommunity.com
SUMMARY:At the Table - Neighbor Outreach
DESCRIPTION:On the weekend of July 26-28\, we encourage Cornerstone families to invite some neighbors over for dinner or dessert on that Friday\, Saturday or Sunday night. Many families in our cities are isolated in their own neighborhoods. But this intentional gesture is to be friendly\, serve and get to know them better\, which allows us to share about our life and hope in Jesus in a natural way. Pray about who to invite\, schedule it\, pray leading up to it\, and see what God does! If you have any questions\, or would like help with food costs\, we can help. Please contact Pastor Michael at 949-606-4089.
URL:https://cornerstonecommunity.com/event/at-the-table-neighbor-outreach/
END:VEVENT
END:VCALENDAR