BEGIN:VCALENDAR
VERSION:2.0
PRODID:-//Cornerstone Community Church | Leander, Cedar Park, Georgetown, TX - ECPv6.5.0//NONSGML v1.0//EN
CALSCALE:GREGORIAN
METHOD:PUBLISH
X-WR-CALNAME:Cornerstone Community Church | Leander, Cedar Park, Georgetown, TX
X-ORIGINAL-URL:https://cornerstonecommunity.com
X-WR-CALDESC:Events for Cornerstone Community Church | Leander, Cedar Park, Georgetown, TX
REFRESH-INTERVAL;VALUE=DURATION:PT1H
X-Robots-Tag:noindex
X-PUBLISHED-TTL:PT1H
BEGIN:VTIMEZONE
TZID:America/Chicago
BEGIN:DAYLIGHT
TZOFFSETFROM:-0600
TZOFFSETTO:-0500
TZNAME:CDT
DTSTART:20280312T080000
END:DAYLIGHT
BEGIN:STANDARD
TZOFFSETFROM:-0500
TZOFFSETTO:-0600
TZNAME:CST
DTSTART:20281105T070000
END:STANDARD
END:VTIMEZONE
BEGIN:VEVENT
DTSTART;TZID=America/Chicago:20280408T080000
DTEND;TZID=America/Chicago:20280408T093000
DTSTAMP:20260419T193613
CREATED:20260418T205424Z
LAST-MODIFIED:20260418T205424Z
UID:3682-1838793600-1838799000@cornerstonecommunity.com
SUMMARY:Second Saturday Men's Breakfast
DESCRIPTION:Cornerstone Men\, join us for a full breakfast and discussion at your next men’s breakfast. Friends college-age & up are welcome! RSVP to Pastor Michael at (949) 606-4089 so we have the right amount of food!
URL:https://cornerstonecommunity.com/event/second-saturday-mens-breakfast-47/
END:VEVENT
END:VCALENDAR