BEGIN:VCALENDAR
VERSION:2.0
PRODID:-//Cornerstone Community Church | Leander, Cedar Park, Georgetown, TX - ECPv6.5.0//NONSGML v1.0//EN
CALSCALE:GREGORIAN
METHOD:PUBLISH
X-ORIGINAL-URL:https://cornerstonecommunity.com
X-WR-CALDESC:Events for Cornerstone Community Church | Leander, Cedar Park, Georgetown, TX
REFRESH-INTERVAL;VALUE=DURATION:PT1H
X-Robots-Tag:noindex
X-PUBLISHED-TTL:PT1H
BEGIN:VTIMEZONE
TZID:America/Chicago
BEGIN:DAYLIGHT
TZOFFSETFROM:-0600
TZOFFSETTO:-0500
TZNAME:CDT
DTSTART:20260308T080000
END:DAYLIGHT
BEGIN:STANDARD
TZOFFSETFROM:-0500
TZOFFSETTO:-0600
TZNAME:CST
DTSTART:20261101T070000
END:STANDARD
END:VTIMEZONE
BEGIN:VEVENT
DTSTART;TZID=America/Chicago:20260619T233000
DTEND;TZID=America/Chicago:20260620T013000
DTSTAMP:20260425T081631
CREATED:20260424T230608Z
LAST-MODIFIED:20260424T230608Z
UID:3769-1781911800-1781919000@cornerstonecommunity.com
SUMMARY:Women’s Ministry Summer Meet Up @ Mighty Fine Burgers on Whitestone
DESCRIPTION:
URL:https://cornerstonecommunity.com/event/womens-ministry-summer-meet-up-mighty-fine-burgers-on-whitestone-2/
END:VEVENT
BEGIN:VEVENT
DTSTART;TZID=America/Chicago:20260624T183000
DTEND;TZID=America/Chicago:20260624T200000
DTSTAMP:20260425T081631
CREATED:20260418T205429Z
LAST-MODIFIED:20260418T205429Z
UID:3712-1782325800-1782331200@cornerstonecommunity.com
SUMMARY:Student Ministry Wednesday Meet Up (Summer Schedule)
DESCRIPTION:Middle Schoolers and High Schoolers meet every 2nd and 4th Wednesday from 6:30-8:00pm for worship\, Bible study\, games and fellowship. See Student Leaders Mitch & Natalie Gumpl for more information!
URL:https://cornerstonecommunity.com/event/student-ministry-wednesday-meet-up-summer-schedule-4/
END:VEVENT
BEGIN:VEVENT
DTSTART;TZID=America/Chicago:20260624T183000
DTEND;TZID=America/Chicago:20260624T200000
DTSTAMP:20260425T081631
CREATED:20260418T205429Z
LAST-MODIFIED:20260421T204526Z
UID:3717-1782325800-1782331200@cornerstonecommunity.com
SUMMARY:Women's Ministry Summer Book Study
DESCRIPTION:
URL:https://cornerstonecommunity.com/event/womens-ministry-summer-book-study-copy/
END:VEVENT
BEGIN:VEVENT
DTSTART;TZID=America/Chicago:20260624T233000
DTEND;TZID=America/Chicago:20260625T010000
DTSTAMP:20260425T081631
CREATED:20260424T230609Z
LAST-MODIFIED:20260424T230609Z
UID:3770-1782343800-1782349200@cornerstonecommunity.com
SUMMARY:Student Ministry Wednesday Meet Up (Summer Schedule)
DESCRIPTION:Summary: Middle Schoolers and High Schoolers meet every 2nd and 4th Wednesday from 6:30-8:00pm for worship\, Bible study\, games and fellowship. See Student Leaders Mitch & Natalie Gumpl for more information! \n\n  Student Ministry for 6th-12th graders will resume their midweek meeting on Wednesday\, January 14th. Middle Schoolers and High Schoolers meet from 6:30-8:00pm for worship\, Bible study\, games and fellowship. See Student Leaders Mitch & Natalie Gumpl for more information!
URL:https://cornerstonecommunity.com/event/student-ministry-wednesday-meet-up-summer-schedule-8/
END:VEVENT
BEGIN:VEVENT
DTSTART;TZID=America/Chicago:20260624T233000
DTEND;TZID=America/Chicago:20260625T010000
DTSTAMP:20260425T081631
CREATED:20260424T230609Z
LAST-MODIFIED:20260424T230609Z
UID:3771-1782343800-1782349200@cornerstonecommunity.com
SUMMARY:Women’s Ministry Summer Book Study
DESCRIPTION:
URL:https://cornerstonecommunity.com/event/womens-ministry-summer-book-study-4/
END:VEVENT
BEGIN:VEVENT
DTSTART;TZID=America/Chicago:20260626T180000
DTEND;TZID=America/Chicago:20260626T210000
DTSTAMP:20260425T081631
CREATED:20260421T204527Z
LAST-MODIFIED:20260421T204527Z
UID:3742-1782496800-1782507600@cornerstonecommunity.com
SUMMARY:Parent's Night Out
DESCRIPTION:
URL:https://cornerstonecommunity.com/event/parents-night-out-3/
CATEGORIES:pco
END:VEVENT
BEGIN:VEVENT
DTSTART;TZID=America/Chicago:20260626T230000
DTEND;TZID=America/Chicago:20260627T020000
DTSTAMP:20260425T081631
CREATED:20260424T230610Z
LAST-MODIFIED:20260424T230610Z
UID:3772-1782514800-1782525600@cornerstonecommunity.com
SUMMARY:Parent's Night Out
DESCRIPTION:
URL:https://cornerstonecommunity.com/event/parents-night-out-4/
END:VEVENT
BEGIN:VEVENT
DTSTART;TZID=America/Chicago:20260628T120000
DTEND;TZID=America/Chicago:20260628T140000
DTSTAMP:20260425T081631
CREATED:20260103T192846Z
LAST-MODIFIED:20260103T192846Z
UID:3250-1782648000-1782655200@cornerstonecommunity.com
SUMMARY:Cornerstone Membership Class
DESCRIPTION:Church membership helps us grow in our discipleship to Jesus\, because through it we grow in our connection to Jesus’ church. Our membership class will explain the beliefs and driving mission of Cornerstone as well as the benefits of membership. Our next membership class is on Sunday\, June 28\, 12-2pm and includes lunch and childcare. Please reserve your spot and childcare needs by emailing victoria@cornerstonecommunity.com.
URL:https://cornerstonecommunity.com/event/cornerstone-membership-class-7/
END:VEVENT
BEGIN:VEVENT
DTSTART;TZID=America/Chicago:20260628T120000
DTEND;TZID=America/Chicago:20260628T140000
DTSTAMP:20260425T081631
CREATED:20260418T205426Z
LAST-MODIFIED:20260418T205426Z
UID:3690-1782648000-1782655200@cornerstonecommunity.com
SUMMARY:Cornerstone Membership Class
DESCRIPTION:Church membership helps us grow in our discipleship to Jesus\, because through it we grow in our connection to Jesus’ church. Our membership class will explain the beliefs and driving mission of Cornerstone as well as the benefits of membership. Our next membership class is on Sunday\, April 26\, 12-2pm and includes lunch and childcare. Please reserve your spot and childcare needs by emailing victoria@cornerstonecommunity.com.
URL:https://cornerstonecommunity.com/event/cornerstone-membership-class-10/
END:VEVENT
BEGIN:VEVENT
DTSTART;TZID=America/Chicago:20260628T170000
DTEND;TZID=America/Chicago:20260628T190000
DTSTAMP:20260425T081631
CREATED:20260424T230610Z
LAST-MODIFIED:20260424T230610Z
UID:3773-1782666000-1782673200@cornerstonecommunity.com
SUMMARY:Cornerstone Membership Class
DESCRIPTION:Summary: Church membership helps us grow in our discipleship to Jesus\, because through it we grow in our connection to Jesus’ church. Our membership class will explain the beliefs and driving mission of Cornerstone as well as the benefits of membership. Our next membership class is on Sunday\, April 26\, 12-2pm and includes lunch and childcare. Please reserve your spot and childcare needs by emailing victoria@cornerstonecommunity.com. \n\n  Church membership helps us grow in our discipleship to Jesus\, because through it we grow in our connection to Jesus’ church. Our membership class will explain the beliefs and driving mission of Cornerstone as well as the benefits of membership. Our next membership class is on Sunday\, April 26\, 12-2pm and includes lunch and childcare. Please reserve your spot and childcare needs by emailing victoria@cornerstonecommunity.com.
URL:https://cornerstonecommunity.com/event/cornerstone-membership-class-13/
END:VEVENT
BEGIN:VEVENT
DTSTART;TZID=America/Chicago:20260705T090000
DTEND;TZID=America/Chicago:20260705T094500
DTSTAMP:20260425T081631
CREATED:20260418T205417Z
LAST-MODIFIED:20260418T205417Z
UID:3632-1783242000-1783244700@cornerstonecommunity.com
SUMMARY:First Sunday Prayer & Communion
DESCRIPTION:Please join us on the first Sunday of each month\, when we have a church wide prayer meeting from 9:15-9:45am in the Kindred Oaks house. All ages are welcome. Prayer guides that list the things we will be praying for in our church and community will be provided. Our Communion service follows at 10:00am.
URL:https://cornerstonecommunity.com/event/first-sunday-prayer-communion-37/
END:VEVENT
BEGIN:VEVENT
DTSTART;TZID=America/Chicago:20260705T091500
DTEND;TZID=America/Chicago:20260705T094500
DTSTAMP:20260425T081631
CREATED:20260103T190822Z
LAST-MODIFIED:20260103T190822Z
UID:3205-1783242900-1783244700@cornerstonecommunity.com
SUMMARY:First Sunday Prayer & Communion
DESCRIPTION:Please join us on the first Sunday of each month\, when we have a church wide prayer meeting from 9:15–9:45am in the Kindred Oaks house. All ages are welcome. Prayer guides that list the things we will be praying for in our church and community will be provided. Our Communion service follows at 10:00am. \nCornerstone Community Church is located at 2100 CR 176\, Leander\, TX 78628. Email info@cornerstonecommunity.com for more information.
URL:https://cornerstonecommunity.com/event/first-sunday-prayer-communion-28/
END:VEVENT
BEGIN:VEVENT
DTSTART;TZID=America/Chicago:20260705T140000
DTEND;TZID=America/Chicago:20260705T144500
DTSTAMP:20260425T081631
CREATED:20260424T230610Z
LAST-MODIFIED:20260424T230610Z
UID:3774-1783260000-1783262700@cornerstonecommunity.com
SUMMARY:First Sunday Prayer & Communion
DESCRIPTION:Summary: Please join us on the first Sunday of each month\, when we have a church wide prayer meeting from 9:15–9:45am in the Kindred Oaks house. All ages are welcome. Prayer guides that list the things we will be praying for in our church and community will be provided. Our Communion service follows at 10:00am. \n\nPlease join us on the first Sunday of each month\, when we have a church wide prayer meeting from 9:15–9:45am in the Kindred Oaks house. All ages are welcome. Prayer guides that list the things we will be praying for in our church and community will be provided. Our Communion service follows at 10:00am.
URL:https://cornerstonecommunity.com/event/first-sunday-prayer-communion-61/
END:VEVENT
BEGIN:VEVENT
DTSTART;TZID=America/Chicago:20260708T183000
DTEND;TZID=America/Chicago:20260708T200000
DTSTAMP:20260425T081631
CREATED:20260418T205428Z
LAST-MODIFIED:20260418T205428Z
UID:3710-1783535400-1783540800@cornerstonecommunity.com
SUMMARY:Student Ministry Wednesday Meet Up (Summer Schedule)
DESCRIPTION:Middle Schoolers and High Schoolers meet every 2nd and 4th Wednesday from 6:30-8:00pm for worship\, Bible study\, games and fellowship. See Student Leaders Mitch & Natalie Gumpl for more information!
URL:https://cornerstonecommunity.com/event/student-ministry-wednesday-meet-up-summer-schedule-2/
END:VEVENT
BEGIN:VEVENT
DTSTART;TZID=America/Chicago:20260708T183000
DTEND;TZID=America/Chicago:20260708T200000
DTSTAMP:20260425T081631
CREATED:20260418T205429Z
LAST-MODIFIED:20260418T205429Z
UID:3716-1783535400-1783540800@cornerstonecommunity.com
SUMMARY:Women's Ministry Summer Book Study
DESCRIPTION:
URL:https://cornerstonecommunity.com/event/womens-ministry-summer-book-study-2/
END:VEVENT
BEGIN:VEVENT
DTSTART;TZID=America/Chicago:20260708T233000
DTEND;TZID=America/Chicago:20260709T010000
DTSTAMP:20260425T081631
CREATED:20260424T230611Z
LAST-MODIFIED:20260424T230611Z
UID:3775-1783553400-1783558800@cornerstonecommunity.com
SUMMARY:Student Ministry Wednesday Meet Up (Summer Schedule)
DESCRIPTION:Summary: Middle Schoolers and High Schoolers meet every 2nd and 4th Wednesday from 6:30-8:00pm for worship\, Bible study\, games and fellowship. See Student Leaders Mitch & Natalie Gumpl for more information! \n\n  Student Ministry for 6th-12th graders will resume their midweek meeting on Wednesday\, January 14th. Middle Schoolers and High Schoolers meet from 6:30-8:00pm for worship\, Bible study\, games and fellowship. See Student Leaders Mitch & Natalie Gumpl for more information!
URL:https://cornerstonecommunity.com/event/student-ministry-wednesday-meet-up-summer-schedule-9/
END:VEVENT
BEGIN:VEVENT
DTSTART;TZID=America/Chicago:20260708T233000
DTEND;TZID=America/Chicago:20260709T010000
DTSTAMP:20260425T081631
CREATED:20260424T230611Z
LAST-MODIFIED:20260424T230611Z
UID:3776-1783553400-1783558800@cornerstonecommunity.com
SUMMARY:Women’s Ministry Summer Book Study
DESCRIPTION:
URL:https://cornerstonecommunity.com/event/womens-ministry-summer-book-study-5/
END:VEVENT
BEGIN:VEVENT
DTSTART;TZID=America/Chicago:20260711T080000
DTEND;TZID=America/Chicago:20260711T093000
DTSTAMP:20260425T081631
CREATED:20260103T191923Z
LAST-MODIFIED:20260103T191932Z
UID:3231-1783756800-1783762200@cornerstonecommunity.com
SUMMARY:Men's Breakfast
DESCRIPTION:Cornerstone Men\, join us for a full breakfast and discussion at your next men’s breakfast. Friends college-age & up are welcome! \nWhen:  Saturday\, July 11 from 8:00-9:30am \nLocation:  TBD \nRSVP to Pastor Michael at (949) 606-4089 so we have the right amount of food!
URL:https://cornerstonecommunity.com/event/mens-breakfast-6/
END:VEVENT
BEGIN:VEVENT
DTSTART;TZID=America/Chicago:20260711T080000
DTEND;TZID=America/Chicago:20260711T093000
DTSTAMP:20260425T081631
CREATED:20260418T205422Z
LAST-MODIFIED:20260418T205422Z
UID:3661-1783756800-1783762200@cornerstonecommunity.com
SUMMARY:Second Saturday Men's Breakfast
DESCRIPTION:Cornerstone Men\, join us for a full breakfast and discussion at your next men’s breakfast. Friends college-age & up are welcome! RSVP to Pastor Michael at (949) 606-4089 so we have the right amount of food!
URL:https://cornerstonecommunity.com/event/second-saturday-mens-breakfast-26/
END:VEVENT
BEGIN:VEVENT
DTSTART;TZID=America/Chicago:20260711T130000
DTEND;TZID=America/Chicago:20260711T143000
DTSTAMP:20260425T081631
CREATED:20260424T230611Z
LAST-MODIFIED:20260424T230611Z
UID:3777-1783774800-1783780200@cornerstonecommunity.com
SUMMARY:Second Saturday Men's Breakfast
DESCRIPTION:Summary: Cornerstone Men\, join us for a full breakfast and discussion at your next men’s breakfast. Friends college-age & up are welcome! RSVP to Pastor Michael at (949) 606-4089 so we have the right amount of food! \n\nCornerstone Men\, join us for a full breakfast and discussion at your next men’s breakfast. Friends college-age & up are welcome! RSVP to Pastor Michael at (949) 606-4089 so we have the right amount of food!
URL:https://cornerstonecommunity.com/event/second-saturday-mens-breakfast-50/
END:VEVENT
BEGIN:VEVENT
DTSTART;TZID=America/Chicago:20260717T190000
DTEND;TZID=America/Chicago:20260717T203000
DTSTAMP:20260425T081631
CREATED:20260418T205430Z
LAST-MODIFIED:20260418T205430Z
UID:3721-1784314800-1784320200@cornerstonecommunity.com
SUMMARY:Women's Ministry Better Together
DESCRIPTION:
URL:https://cornerstonecommunity.com/event/womens-ministry-better-together-2/
END:VEVENT
BEGIN:VEVENT
DTSTART;TZID=America/Chicago:20260719T113000
DTEND;TZID=America/Chicago:20260719T120000
DTSTAMP:20260425T081631
CREATED:20260109T050036Z
LAST-MODIFIED:20260109T050036Z
UID:3287-1784460600-1784462400@cornerstonecommunity.com
SUMMARY:Quarterly Ministry & Stewardship Update
DESCRIPTION:
URL:https://cornerstonecommunity.com/event/quarterly-ministry-stewardship-update-2/
END:VEVENT
BEGIN:VEVENT
DTSTART;TZID=America/Chicago:20260719T113000
DTEND;TZID=America/Chicago:20260719T123000
DTSTAMP:20260425T081631
CREATED:20260418T205426Z
LAST-MODIFIED:20260418T205426Z
UID:3691-1784460600-1784464200@cornerstonecommunity.com
SUMMARY:Quarterly Ministry & Stewardship Update
DESCRIPTION:Following the worship service\, Pastor Michael and our Stewardship Committee will provide a financial report as well as ministry updates regarding Cornerstone’s recent activities and upcoming plans. Please plan to stay for a few minutes so you’re in the loop!
URL:https://cornerstonecommunity.com/event/quarterly-ministry-stewardship-update-5/
END:VEVENT
BEGIN:VEVENT
DTSTART;TZID=America/Chicago:20260719T163000
DTEND;TZID=America/Chicago:20260719T173000
DTSTAMP:20260425T081631
CREATED:20260424T230612Z
LAST-MODIFIED:20260424T230612Z
UID:3779-1784478600-1784482200@cornerstonecommunity.com
SUMMARY:Quarterly Ministry & Stewardship Update
DESCRIPTION:Summary: Following the worship service\, Pastor Michael and our Stewardship Committee will provide a financial report as well as ministry updates regarding Cornerstone’s recent activities and upcoming plans. Please plan to stay for a few minutes so you’re in the loop! \n\n  Following the worship service\, Pastor Michael and our Stewardship Committee will provide a financial report as well as ministry updates regarding Cornerstone’s recent activities and upcoming plans. Please plan to stay for a few minutes so you’re in the loop!
URL:https://cornerstonecommunity.com/event/quarterly-ministry-stewardship-update-7/
END:VEVENT
BEGIN:VEVENT
DTSTART;TZID=America/Chicago:20260722T183000
DTEND;TZID=America/Chicago:20260722T200000
DTSTAMP:20260425T081631
CREATED:20260418T205429Z
LAST-MODIFIED:20260418T205429Z
UID:3713-1784745000-1784750400@cornerstonecommunity.com
SUMMARY:Student Ministry Wednesday Meet Up (Summer Schedule)
DESCRIPTION:Middle Schoolers and High Schoolers meet every 2nd and 4th Wednesday from 6:30-8:00pm for worship\, Bible study\, games and fellowship. See Student Leaders Mitch & Natalie Gumpl for more information!
URL:https://cornerstonecommunity.com/event/student-ministry-wednesday-meet-up-summer-schedule-5/
END:VEVENT
BEGIN:VEVENT
DTSTART;TZID=America/Chicago:20260722T183000
DTEND;TZID=America/Chicago:20260722T200000
DTSTAMP:20260425T081631
CREATED:20260418T205429Z
LAST-MODIFIED:20260421T204526Z
UID:3718-1784745000-1784750400@cornerstonecommunity.com
SUMMARY:Women's Ministry Summer Book Study
DESCRIPTION:
URL:https://cornerstonecommunity.com/event/womens-ministry-summer-book-study-copy-2/
END:VEVENT
BEGIN:VEVENT
DTSTART;TZID=America/Chicago:20260722T233000
DTEND;TZID=America/Chicago:20260723T010000
DTSTAMP:20260425T081631
CREATED:20260424T230612Z
LAST-MODIFIED:20260424T230612Z
UID:3780-1784763000-1784768400@cornerstonecommunity.com
SUMMARY:Student Ministry Wednesday Meet Up (Summer Schedule)
DESCRIPTION:Summary: Middle Schoolers and High Schoolers meet every 2nd and 4th Wednesday from 6:30-8:00pm for worship\, Bible study\, games and fellowship. See Student Leaders Mitch & Natalie Gumpl for more information! \n\n  Student Ministry for 6th-12th graders will resume their midweek meeting on Wednesday\, January 14th. Middle Schoolers and High Schoolers meet from 6:30-8:00pm for worship\, Bible study\, games and fellowship. See Student Leaders Mitch & Natalie Gumpl for more information!
URL:https://cornerstonecommunity.com/event/student-ministry-wednesday-meet-up-summer-schedule-10/
END:VEVENT
BEGIN:VEVENT
DTSTART;TZID=America/Chicago:20260722T233000
DTEND;TZID=America/Chicago:20260723T010000
DTSTAMP:20260425T081631
CREATED:20260424T230612Z
LAST-MODIFIED:20260424T230612Z
UID:3781-1784763000-1784768400@cornerstonecommunity.com
SUMMARY:Women’s Ministry Summer Book Study
DESCRIPTION:
URL:https://cornerstonecommunity.com/event/womens-ministry-summer-book-study-6/
END:VEVENT
BEGIN:VEVENT
DTSTART;TZID=America/Chicago:20260802T090000
DTEND;TZID=America/Chicago:20260802T094500
DTSTAMP:20260425T081631
CREATED:20260418T205417Z
LAST-MODIFIED:20260418T205417Z
UID:3633-1785661200-1785663900@cornerstonecommunity.com
SUMMARY:First Sunday Prayer & Communion
DESCRIPTION:Please join us on the first Sunday of each month\, when we have a church wide prayer meeting from 9:15-9:45am in the Kindred Oaks house. All ages are welcome. Prayer guides that list the things we will be praying for in our church and community will be provided. Our Communion service follows at 10:00am.
URL:https://cornerstonecommunity.com/event/first-sunday-prayer-communion-38/
END:VEVENT
BEGIN:VEVENT
DTSTART;TZID=America/Chicago:20260802T091500
DTEND;TZID=America/Chicago:20260802T094500
DTSTAMP:20260425T081631
CREATED:20260103T190903Z
LAST-MODIFIED:20260103T190903Z
UID:3207-1785662100-1785663900@cornerstonecommunity.com
SUMMARY:First Sunday Prayer & Communion
DESCRIPTION:Please join us on the first Sunday of each month\, when we have a church wide prayer meeting from 9:15–9:45am in the Kindred Oaks house. All ages are welcome. Prayer guides that list the things we will be praying for in our church and community will be provided. Our Communion service follows at 10:00am. \nCornerstone Community Church is located at 2100 CR 176\, Leander\, TX 78628. Email info@cornerstonecommunity.com for more information.
URL:https://cornerstonecommunity.com/event/first-sunday-prayer-communion-29/
END:VEVENT
END:VCALENDAR